BEGIN:VCALENDAR
VERSION:2.0
PRODID:-//Nordfjordkompaniet - ECPv6.15.20//NONSGML v1.0//EN
CALSCALE:GREGORIAN
METHOD:PUBLISH
X-ORIGINAL-URL:https://www.nordfjordkompaniet.no
X-WR-CALDESC:Hendingar for Nordfjordkompaniet
REFRESH-INTERVAL;VALUE=DURATION:PT1H
X-Robots-Tag:noindex
X-PUBLISHED-TTL:PT1H
BEGIN:VTIMEZONE
TZID:Europe/Oslo
BEGIN:DAYLIGHT
TZOFFSETFROM:+0100
TZOFFSETTO:+0200
TZNAME:CEST
DTSTART:20250330T010000
END:DAYLIGHT
BEGIN:STANDARD
TZOFFSETFROM:+0200
TZOFFSETTO:+0100
TZNAME:CET
DTSTART:20251026T010000
END:STANDARD
BEGIN:DAYLIGHT
TZOFFSETFROM:+0100
TZOFFSETTO:+0200
TZNAME:CEST
DTSTART:20260329T010000
END:DAYLIGHT
BEGIN:STANDARD
TZOFFSETFROM:+0200
TZOFFSETTO:+0100
TZNAME:CET
DTSTART:20261025T010000
END:STANDARD
BEGIN:DAYLIGHT
TZOFFSETFROM:+0100
TZOFFSETTO:+0200
TZNAME:CEST
DTSTART:20270328T010000
END:DAYLIGHT
BEGIN:STANDARD
TZOFFSETFROM:+0200
TZOFFSETTO:+0100
TZNAME:CET
DTSTART:20271031T010000
END:STANDARD
END:VTIMEZONE
BEGIN:VEVENT
DTSTART;TZID=Europe/Oslo:20260513T173000
DTEND;TZID=Europe/Oslo:20260513T210000
DTSTAMP:20260421T103805
CREATED:20260408T133821Z
LAST-MODIFIED:20260420T134836Z
UID:6745-1778693400-1778706000@www.nordfjordkompaniet.no
SUMMARY:Invitasjon til fagbrevutdeling
DESCRIPTION:Kjære fagarbeidar og tidlegare superlærling! \nDu har tatt steget frå superlærling til fagarbeidar. Det er ikkje småtteri.\nNo skal vi feire deg og det du har fått til! \nVi inviterer deg som tok fagbrev i 2025 og første del av 2026 til fagbrevutdeling på Sagastad\, den 13. mai 2026. \n\nProgram for kvelden: \n\nKjekk prat og moglegheiter for å sjå deg rundt på Noregs største rekonstruerte vikingskip\nGod mat\nUtdeling av fagbrev\nUnderhaldning\nFesten fortset på Magnifikk\n\n\nPraktisk informasjon:\n \n\n\nTid: Onsdag 13. mai 2026\, kl. 17:30-21:00. Programmet startar kl. 18:00.\nStad: Sagastad – i spektakulære omgjevnader med Noregs største vikingskip.\nAntrekk: Staseleg (gjerne bunad eller dress/kjole).\nFølge: Du kan invitere med deg inntil 2 personar til denne festkvelden. Dette kan vere familie\, arbeidsgjevar\, ein god ven eller andre du ønsker å feire saman med. Pris pr følge er kr 500\,-.\nPris: Festen på Sagastad er gratis for deg som skal motta fagbrevet ditt. For følge kostar det kr 500\,-. Dette inkluderer inngang til Sagastad\, mat og underhaldning. Det blir mogleg å kjøpe drikke.\nPåmelding: Påmelding via skjemaet nedanfor. Frist for påmelding er: 30. april 2026. \nTa kontakt med din superrådgjevar om du har spørsmål. \nVelkomen til ei super feiring av fagbrevet ditt! \n\n  \n\n\n\nPåmelding\n\n\n                \n                        \n							"*" indicates required fields \n                        \n                        X/TwitterThis field is for validation purposes and should be left unchanged.Fullt namn*Telefon*E-post*\n                            \n                        Har du matallergiar vi treng vite om? Skriv dei her:Følge*Ønsker du å ta med deg familie\, vener\, arbeidsgjevar eller andre på fagbrevutdelinga? Eg kjem aleineEg tek med 1 stk følge (familie\, venn\, andre) kr 500\,- pr persEg tek med 2 stk følge (familie\, venn\, andre) kr 500\,- pr persNavn\, mobilnr og evt matallergier for følge 1Navn\, mobilnr og evt matallergier for følge 2\n          \n            \n            \n            \n            \n            \n            \n            \n            \n            \n            \n            \n            \n            \n        \n                        \n                        \n\n \n 
URL:https://www.nordfjordkompaniet.no/arrangement/fagbrevutdeling/
LOCATION:Sagastad\, Sjøgata 41\, Nordfjordeid\, 6770\, Norway
CATEGORIES:Superlærling
ATTACH;FMTTYPE=image/jpeg:https://www.nordfjordkompaniet.no/wp-content/uploads/2026/04/sagastad-kreditering-ulf-rugumayo-amundsen-1.jpg
END:VEVENT
END:VCALENDAR